BEGIN:VCALENDAR
VERSION:2.0
PRODID:-//Tukios.com/
BEGIN:VEVENT
UID:67a4e3dd-6830-473d-8e7e-aa10ba9ba557@www.murphyfuneralhome.net
DTSTAMP:20260424T012248Z
DTSTART:20260425T160000Z
DTEND:20260425T180000Z
SUMMARY:Visitation
DESCRIPTION:
URL:https://www.murphyfuneralhome.net/obituaries/cylde-cj-nichols-jr
LOCATION: 207 Central Ave  Marin TN 38237
GEO:36.338363;-88.8510222
END:VEVENT
END:VCALENDAR