BEGIN:VCALENDAR
VERSION:2.0
PRODID:-//Tukios.com/
BEGIN:VEVENT
UID:dd3329fd-25ce-4373-a99b-d493ab6b668f@www.murphyfuneralhome.net
DTSTAMP:20260424T012005Z
DTSTART:20260425T180000Z
DTEND:20260425T190000Z
SUMMARY:Memorial Service
DESCRIPTION:
URL:https://www.murphyfuneralhome.net/obituaries/cylde-cj-nichols-jr
LOCATION: 207 Central Ave  Marin TN 38237
GEO:36.338363;-88.8510222
END:VEVENT
END:VCALENDAR